BEGIN:VCALENDAR
VERSION:2.0
PRODID:-//UNEPEL - ECPv6.8.3//NONSGML v1.0//EN
CALSCALE:GREGORIAN
METHOD:PUBLISH
X-WR-CALNAME:UNEPEL
X-ORIGINAL-URL:https://unepel.bf
X-WR-CALDESC:Évènements pour UNEPEL
REFRESH-INTERVAL;VALUE=DURATION:PT1H
X-Robots-Tag:noindex
X-PUBLISHED-TTL:PT1H
BEGIN:VTIMEZONE
TZID:UTC
BEGIN:STANDARD
TZOFFSETFROM:+0000
TZOFFSETTO:+0000
TZNAME:UTC
DTSTART:20240101T000000
END:STANDARD
END:VTIMEZONE
BEGIN:VEVENT
DTSTART;TZID=UTC:20241228T080000
DTEND;TZID=UTC:20241228T120000
DTSTAMP:20260421T175410
CREATED:20241212T014715Z
LAST-MODIFIED:20250218T024637Z
UID:36145-1735372800-1735387200@unepel.bf
SUMMARY:Assemblée Générale de bilan 2024
DESCRIPTION:« Tous les Évènements\n 		\n				\n				\n				\n			Cet évènement est passé. \n		\n				\n				\n				\n			\n	Assemblée Générale de bilan 2024		\n				\n				\n				\n			\n		\n			December 28\n\n	\n\n	 @ \n\n\n8:00 am\n\n		\n\n\n\n	\n	 - \n\n\n12:00 pm\n\n\n\n	\n		\n				\n				\n				\n			\n	\n		\n				\n				\n						\n					\n			\n						\n				\n			\n	\n\n	Catégories :	\n		AG	\n\n		\n				\n					\n		\n				\n			\n							\n		\n					\n		\n				\n						\n					\n			\n							\n		\n					\n		\n				\n						\n					\n			\n						\n				\n			\n	\n		\n\n	\n	Ajouter au calendrier	\n		\n	\n\n		\n			\n									\n	Google Agenda\n\n									\n	iCalendar\n\n									\n	Outlook 365\n\n									\n	Outlook Live\n\n							\n		\n\n		\n	\n\n		\n				\n					\n		\n					\n		\n				\n						\n					\n			\n						\n				\n			\n	\n		\n		\n	\n		Assemblée Générale
URL:https://unepel.bf/index.php/event/assemblee-generale-de-bilan-2024/
CATEGORIES:AG
ATTACH;FMTTYPE=image/jpeg:https://unepel.bf/wp-content/uploads/2024/12/WhatsApp-Image-2025-02-14-a-11.53.16_031bf7a3.jpg
END:VEVENT
END:VCALENDAR