BEGIN:VCALENDAR
VERSION:2.0
PRODID:-//UNEPEL - ECPv6.8.3//NONSGML v1.0//EN
CALSCALE:GREGORIAN
METHOD:PUBLISH
X-ORIGINAL-URL:https://unepel.bf
X-WR-CALDESC:Évènements pour UNEPEL
REFRESH-INTERVAL;VALUE=DURATION:PT1H
X-Robots-Tag:noindex
X-PUBLISHED-TTL:PT1H
BEGIN:VTIMEZONE
TZID:UTC
BEGIN:STANDARD
TZOFFSETFROM:+0000
TZOFFSETTO:+0000
TZNAME:UTC
DTSTART:20250101T000000
END:STANDARD
END:VTIMEZONE
BEGIN:VEVENT
DTSTART;TZID=UTC:20250327T090000
DTEND;TZID=UTC:20250327T120000
DTSTAMP:20260422T162552
CREATED:20250321T140109Z
LAST-MODIFIED:20250321T140109Z
UID:36827-1743066000-1743076800@unepel.bf
SUMMARY:Assemblée Générale
DESCRIPTION:Ordre du jour \n\nFrais de scolarité des élèves affectés par l’état au profit des établissements d’enseignement laic\nConvention d’éducation entre l’état et l’UNEPEL\n\n 
URL:https://unepel.bf/index.php/event/assemblee-generale/
LOCATION:Jean Pierre Guingané\, Ouaga
CATEGORIES:Assemblée Générale
ATTACH;FMTTYPE=image/jpeg:https://unepel.bf/wp-content/uploads/2024/12/465035534_9018892268143548_6980018820301866653_n.jpg
END:VEVENT
END:VCALENDAR